BEGIN:VCALENDAR
VERSION:2.0
PRODID:-//St Oswald&#039;s C of E Primary School Guiseley - ECPv6.15.20//NONSGML v1.0//EN
CALSCALE:GREGORIAN
METHOD:PUBLISH
X-WR-CALNAME:St Oswald&#039;s C of E Primary School Guiseley
X-ORIGINAL-URL:https://stoswaldsleeds.org
X-WR-CALDESC:Events for St Oswald&#039;s C of E Primary School Guiseley
REFRESH-INTERVAL;VALUE=DURATION:PT1H
X-Robots-Tag:noindex
X-PUBLISHED-TTL:PT1H
BEGIN:VTIMEZONE
TZID:Europe/London
BEGIN:DAYLIGHT
TZOFFSETFROM:+0000
TZOFFSETTO:+0100
TZNAME:BST
DTSTART:20230326T010000
END:DAYLIGHT
BEGIN:STANDARD
TZOFFSETFROM:+0100
TZOFFSETTO:+0000
TZNAME:GMT
DTSTART:20231029T010000
END:STANDARD
BEGIN:DAYLIGHT
TZOFFSETFROM:+0000
TZOFFSETTO:+0100
TZNAME:BST
DTSTART:20240331T010000
END:DAYLIGHT
BEGIN:STANDARD
TZOFFSETFROM:+0100
TZOFFSETTO:+0000
TZNAME:GMT
DTSTART:20241027T010000
END:STANDARD
BEGIN:DAYLIGHT
TZOFFSETFROM:+0000
TZOFFSETTO:+0100
TZNAME:BST
DTSTART:20250330T010000
END:DAYLIGHT
BEGIN:STANDARD
TZOFFSETFROM:+0100
TZOFFSETTO:+0000
TZNAME:GMT
DTSTART:20251026T010000
END:STANDARD
END:VTIMEZONE
BEGIN:VEVENT
DTSTART;VALUE=DATE:20241104
DTEND;VALUE=DATE:20241105
DTSTAMP:20260421T092909
CREATED:20241015T103415Z
LAST-MODIFIED:20241015T115651Z
UID:4769-1730678400-1730764799@stoswaldsleeds.org
SUMMARY:Year 6 Bikeability
DESCRIPTION:
URL:https://stoswaldsleeds.org/calendar/year-6-bikeability/
END:VEVENT
BEGIN:VEVENT
DTSTART;VALUE=DATE:20241104
DTEND;VALUE=DATE:20241105
DTSTAMP:20260421T092909
CREATED:20241015T103739Z
LAST-MODIFIED:20241015T115753Z
UID:4771-1730678400-1730764799@stoswaldsleeds.org
SUMMARY:Year 3 & 6 Diwali dance workshop
DESCRIPTION:Years 3 and 6 will be taking part in The Ramayana: The Diwali dance workshop. The team will introduce the topic of Diwali while creating a link between dance and storytelling. The children explore the story and characters of The Ramayana through movement\, creating a 2-minute dance which they will perform with their teacher at the end of the session.
URL:https://stoswaldsleeds.org/calendar/year-3-6-diwali-dance-workshop/
END:VEVENT
BEGIN:VEVENT
DTSTART;TZID=Europe/London:20241104T082000
DTEND;TZID=Europe/London:20241104T082000
DTSTAMP:20260421T092909
CREATED:20241015T103320Z
LAST-MODIFIED:20241015T103320Z
UID:4767-1730708400-1730708400@stoswaldsleeds.org
SUMMARY:School reopens for Autumn Term 2
DESCRIPTION:
URL:https://stoswaldsleeds.org/calendar/school-reopens-for-autumn-term-2/
END:VEVENT
BEGIN:VEVENT
DTSTART;TZID=Europe/London:20241106T153000
DTEND;TZID=Europe/London:20241106T190000
DTSTAMP:20260421T092909
CREATED:20241015T104831Z
LAST-MODIFIED:20241015T104831Z
UID:4774-1730907000-1730919600@stoswaldsleeds.org
SUMMARY:Parents Evening
DESCRIPTION:Years R-6 appointments available 3.40pm-6.50pm \nAcorn Preschool Miss Miller’s keyworker group ONLY appointments available 3.30pm-6.00pm
URL:https://stoswaldsleeds.org/calendar/parents-evening-3/
END:VEVENT
BEGIN:VEVENT
DTSTART;VALUE=DATE:20241107
DTEND;VALUE=DATE:20241108
DTSTAMP:20260421T092909
CREATED:20241015T105700Z
LAST-MODIFIED:20241015T115347Z
UID:4780-1730937600-1731023999@stoswaldsleeds.org
SUMMARY:Outdoor Classroom Day
DESCRIPTION:
URL:https://stoswaldsleeds.org/calendar/outdoor-classroom-day/
END:VEVENT
BEGIN:VEVENT
DTSTART;TZID=Europe/London:20241107T152000
DTEND;TZID=Europe/London:20241107T180000
DTSTAMP:20260421T092909
CREATED:20241015T105332Z
LAST-MODIFIED:20241015T105332Z
UID:4776-1730992800-1731002400@stoswaldsleeds.org
SUMMARY:Parents Evening
DESCRIPTION:Years R-6 EXCLUDING YR4 CEDAR CLASS appointments available 3.40pm-5.50pm \nAcorn Preschool Mrs Hutchinson’s keyworker group ONLY appointments available 3.20pm-4.20pm \nAcorn Preschool Mrs Wilkinson’s keyworker group ONLY appointments available 4.30pm-6.00pm
URL:https://stoswaldsleeds.org/calendar/parents-evening-4/
END:VEVENT
BEGIN:VEVENT
DTSTART;VALUE=DATE:20241108
DTEND;VALUE=DATE:20241109
DTSTAMP:20260421T092909
CREATED:20241015T115244Z
LAST-MODIFIED:20241015T115244Z
UID:4782-1731024000-1731110399@stoswaldsleeds.org
SUMMARY:Flu vaccinations for Reception to Year 6
DESCRIPTION:
URL:https://stoswaldsleeds.org/calendar/flu-vaccinations-for-reception-to-year-6/
END:VEVENT
BEGIN:VEVENT
DTSTART;VALUE=DATE:20241111
DTEND;VALUE=DATE:20241112
DTSTAMP:20260421T092909
CREATED:20241015T115938Z
LAST-MODIFIED:20241015T120218Z
UID:4785-1731283200-1731369599@stoswaldsleeds.org
SUMMARY:School photographs
DESCRIPTION:Tempest Photography will be in school to take individual and sibling photographs.
URL:https://stoswaldsleeds.org/calendar/school-photographs/
END:VEVENT
BEGIN:VEVENT
DTSTART;TZID=Europe/London:20241111T140000
DTEND;TZID=Europe/London:20241111T150000
DTSTAMP:20260421T092909
CREATED:20241015T124909Z
LAST-MODIFIED:20241015T124909Z
UID:4822-1731333600-1731337200@stoswaldsleeds.org
SUMMARY:Flourishing From The Start parent & toddler session
DESCRIPTION:Play sessions held in the Guide Hut (next door to school) run by Katy Miller (Assistant Headteacher/EYFS Leader/Preschool Teacher) and Heidi Hunter (Family Support Worker). Sessions run from 2pm to 3pm – no need to book\, just come along!
URL:https://stoswaldsleeds.org/calendar/flourishing-from-the-start-parent-toddler-session-5/
END:VEVENT
BEGIN:VEVENT
DTSTART;VALUE=DATE:20241115
DTEND;VALUE=DATE:20241116
DTSTAMP:20260421T092909
CREATED:20241106T130335Z
LAST-MODIFIED:20241106T130335Z
UID:4863-1731628800-1731715199@stoswaldsleeds.org
SUMMARY:Children in Need 2024
DESCRIPTION:Non-uniform (such as yellow\, spots or lounge wear) and bring a teddy for a suggested donation of £2 (payable via ParentPay).
URL:https://stoswaldsleeds.org/calendar/children-in-need-2024/
END:VEVENT
BEGIN:VEVENT
DTSTART;VALUE=DATE:20241128
DTEND;VALUE=DATE:20241129
DTSTAMP:20260421T092909
CREATED:20241015T130632Z
LAST-MODIFIED:20241015T130632Z
UID:4851-1732752000-1732838399@stoswaldsleeds.org
SUMMARY:Year 2 Great Fire of London workshop
DESCRIPTION:Year 2 will receive a visit from Sir William Petty who will tell them all about the Great Fire of London.
URL:https://stoswaldsleeds.org/calendar/year-2-great-fire-of-london-workshop/
END:VEVENT
END:VCALENDAR