BEGIN:VCALENDAR
VERSION:2.0
PRODID:-//St Oswald&#039;s C of E Primary School Guiseley - ECPv6.15.20//NONSGML v1.0//EN
CALSCALE:GREGORIAN
METHOD:PUBLISH
X-WR-CALNAME:St Oswald&#039;s C of E Primary School Guiseley
X-ORIGINAL-URL:https://stoswaldsleeds.org
X-WR-CALDESC:Events for St Oswald&#039;s C of E Primary School Guiseley
REFRESH-INTERVAL;VALUE=DURATION:PT1H
X-Robots-Tag:noindex
X-PUBLISHED-TTL:PT1H
BEGIN:VTIMEZONE
TZID:Europe/London
BEGIN:DAYLIGHT
TZOFFSETFROM:+0000
TZOFFSETTO:+0100
TZNAME:BST
DTSTART:20220327T010000
END:DAYLIGHT
BEGIN:STANDARD
TZOFFSETFROM:+0100
TZOFFSETTO:+0000
TZNAME:GMT
DTSTART:20221030T010000
END:STANDARD
BEGIN:DAYLIGHT
TZOFFSETFROM:+0000
TZOFFSETTO:+0100
TZNAME:BST
DTSTART:20230326T010000
END:DAYLIGHT
BEGIN:STANDARD
TZOFFSETFROM:+0100
TZOFFSETTO:+0000
TZNAME:GMT
DTSTART:20231029T010000
END:STANDARD
BEGIN:DAYLIGHT
TZOFFSETFROM:+0000
TZOFFSETTO:+0100
TZNAME:BST
DTSTART:20240331T010000
END:DAYLIGHT
BEGIN:STANDARD
TZOFFSETFROM:+0100
TZOFFSETTO:+0000
TZNAME:GMT
DTSTART:20241027T010000
END:STANDARD
END:VTIMEZONE
BEGIN:VEVENT
DTSTART;VALUE=DATE:20231106
DTEND;VALUE=DATE:20231107
DTSTAMP:20260422T075658
CREATED:20231024T102944Z
LAST-MODIFIED:20231024T103019Z
UID:4073-1699228800-1699315199@stoswaldsleeds.org
SUMMARY:School reopens
DESCRIPTION:
URL:https://stoswaldsleeds.org/calendar/school-reopens-after-half-term/
END:VEVENT
BEGIN:VEVENT
DTSTART;VALUE=DATE:20231106
DTEND;VALUE=DATE:20231107
DTSTAMP:20260422T075658
CREATED:20240322T120958Z
LAST-MODIFIED:20240322T120958Z
UID:4347-1699228800-1699315199@stoswaldsleeds.org
SUMMARY:School re-opens
DESCRIPTION:
URL:https://stoswaldsleeds.org/calendar/school-re-opens/
END:VEVENT
BEGIN:VEVENT
DTSTART;VALUE=DATE:20231109
DTEND;VALUE=DATE:20231110
DTSTAMP:20260422T075658
CREATED:20231024T103105Z
LAST-MODIFIED:20231024T103105Z
UID:4076-1699488000-1699574399@stoswaldsleeds.org
SUMMARY:Year 1 Animals UK visit into school
DESCRIPTION:
URL:https://stoswaldsleeds.org/calendar/year-1-animals-uk-visit-into-school/
END:VEVENT
BEGIN:VEVENT
DTSTART;VALUE=DATE:20231109
DTEND;VALUE=DATE:20231110
DTSTAMP:20260422T075658
CREATED:20231024T103134Z
LAST-MODIFIED:20231024T103134Z
UID:4078-1699488000-1699574399@stoswaldsleeds.org
SUMMARY:Reception visit to Nell Bank
DESCRIPTION:
URL:https://stoswaldsleeds.org/calendar/reception-visit-to-nell-bank/
END:VEVENT
BEGIN:VEVENT
DTSTART;VALUE=DATE:20231117
DTEND;VALUE=DATE:20231118
DTSTAMP:20260422T075658
CREATED:20231024T103227Z
LAST-MODIFIED:20231024T103227Z
UID:4080-1700179200-1700265599@stoswaldsleeds.org
SUMMARY:Tempest Photography in school
DESCRIPTION:
URL:https://stoswaldsleeds.org/calendar/tempest-photography-in-school/
END:VEVENT
BEGIN:VEVENT
DTSTART;VALUE=DATE:20231123
DTEND;VALUE=DATE:20231124
DTSTAMP:20260422T075658
CREATED:20231024T103308Z
LAST-MODIFIED:20231024T103308Z
UID:4082-1700697600-1700783999@stoswaldsleeds.org
SUMMARY:Year 3 and Year 6 Diwali Dance Workshop
DESCRIPTION:
URL:https://stoswaldsleeds.org/calendar/year-3-and-year-6-diwali-dance-workshop/
END:VEVENT
BEGIN:VEVENT
DTSTART;VALUE=DATE:20231123
DTEND;VALUE=DATE:20231124
DTSTAMP:20260422T075658
CREATED:20231024T103334Z
LAST-MODIFIED:20231024T103334Z
UID:4084-1700697600-1700783999@stoswaldsleeds.org
SUMMARY:NHS Flu Vaccinations
DESCRIPTION:
URL:https://stoswaldsleeds.org/calendar/nhs-flu-vaccinations/
END:VEVENT
BEGIN:VEVENT
DTSTART;VALUE=DATE:20231129
DTEND;VALUE=DATE:20231130
DTSTAMP:20260422T075658
CREATED:20231024T103405Z
LAST-MODIFIED:20231024T103405Z
UID:4086-1701216000-1701302399@stoswaldsleeds.org
SUMMARY:Year 2 Great Fire of London Visitor in school
DESCRIPTION:
URL:https://stoswaldsleeds.org/calendar/year-2-great-fire-of-london-visitor-in-school/
END:VEVENT
END:VCALENDAR