BEGIN:VCALENDAR
VERSION:2.0
PRODID:-//St Oswald&#039;s C of E Primary School Guiseley - ECPv6.15.20//NONSGML v1.0//EN
CALSCALE:GREGORIAN
METHOD:PUBLISH
X-WR-CALNAME:St Oswald&#039;s C of E Primary School Guiseley
X-ORIGINAL-URL:https://stoswaldsleeds.org
X-WR-CALDESC:Events for St Oswald&#039;s C of E Primary School Guiseley
REFRESH-INTERVAL;VALUE=DURATION:PT1H
X-Robots-Tag:noindex
X-PUBLISHED-TTL:PT1H
BEGIN:VTIMEZONE
TZID:Europe/London
BEGIN:DAYLIGHT
TZOFFSETFROM:+0000
TZOFFSETTO:+0100
TZNAME:BST
DTSTART:20220327T010000
END:DAYLIGHT
BEGIN:STANDARD
TZOFFSETFROM:+0100
TZOFFSETTO:+0000
TZNAME:GMT
DTSTART:20221030T010000
END:STANDARD
BEGIN:DAYLIGHT
TZOFFSETFROM:+0000
TZOFFSETTO:+0100
TZNAME:BST
DTSTART:20230326T010000
END:DAYLIGHT
BEGIN:STANDARD
TZOFFSETFROM:+0100
TZOFFSETTO:+0000
TZNAME:GMT
DTSTART:20231029T010000
END:STANDARD
BEGIN:DAYLIGHT
TZOFFSETFROM:+0000
TZOFFSETTO:+0100
TZNAME:BST
DTSTART:20240331T010000
END:DAYLIGHT
BEGIN:STANDARD
TZOFFSETFROM:+0100
TZOFFSETTO:+0000
TZNAME:GMT
DTSTART:20241027T010000
END:STANDARD
BEGIN:DAYLIGHT
TZOFFSETFROM:+0000
TZOFFSETTO:+0100
TZNAME:BST
DTSTART:20250330T010000
END:DAYLIGHT
BEGIN:STANDARD
TZOFFSETFROM:+0100
TZOFFSETTO:+0000
TZNAME:GMT
DTSTART:20251026T010000
END:STANDARD
BEGIN:DAYLIGHT
TZOFFSETFROM:+0000
TZOFFSETTO:+0100
TZNAME:BST
DTSTART:20260329T010000
END:DAYLIGHT
BEGIN:STANDARD
TZOFFSETFROM:+0100
TZOFFSETTO:+0000
TZNAME:GMT
DTSTART:20261025T010000
END:STANDARD
END:VTIMEZONE
BEGIN:VEVENT
DTSTART;TZID=Europe/London:20250915T080000
DTEND;TZID=Europe/London:20250917T170000
DTSTAMP:20260424T170906
CREATED:20250908T095109Z
LAST-MODIFIED:20250908T095109Z
UID:5332-1757923200-1758128400@stoswaldsleeds.org
SUMMARY:Robinwood Year 6 Residential
DESCRIPTION:
URL:https://stoswaldsleeds.org/calendar/robinwood-year-6-residential/
LOCATION:Robinwood
CATEGORIES:School Trip
END:VEVENT
BEGIN:VEVENT
DTSTART;TZID=Europe/London:20230706T090000
DTEND;TZID=Europe/London:20230706T160000
DTSTAMP:20260424T170906
CREATED:20230425T115935Z
LAST-MODIFIED:20230425T115935Z
UID:3532-1688634000-1688659200@stoswaldsleeds.org
SUMMARY:Y1 Trip to Harlow Carr - Harrogate
DESCRIPTION:Y1 will be going on a trip to Harlow Carr Gardens in Harrogate. No need to wear school uniform.
URL:https://stoswaldsleeds.org/calendar/y1-trip-to-harlow-carr-harrogate/
CATEGORIES:School Trip
ATTACH;FMTTYPE=image/jpeg:https://stoswaldsleeds.org/wp-content/uploads/2022/11/st-oswalds-event.jpg
END:VEVENT
BEGIN:VEVENT
DTSTART;TZID=Europe/London:20230616T090000
DTEND;TZID=Europe/London:20230616T163000
DTSTAMP:20260424T170906
CREATED:20230425T121134Z
LAST-MODIFIED:20230425T121134Z
UID:3535-1686906000-1686933000@stoswaldsleeds.org
SUMMARY:Y3 Trip to Robin Hood's Bay
DESCRIPTION:
URL:https://stoswaldsleeds.org/calendar/y3-trip-to-robin-hoods-bay/
CATEGORIES:School Trip
ATTACH;FMTTYPE=image/jpeg:https://stoswaldsleeds.org/wp-content/uploads/2022/11/st-oswalds-event.jpg
END:VEVENT
BEGIN:VEVENT
DTSTART;TZID=Europe/London:20230222T173000
DTEND;TZID=Europe/London:20230222T180000
DTSTAMP:20260424T170906
CREATED:20230131T154812Z
LAST-MODIFIED:20230131T154812Z
UID:3251-1677087000-1677088800@stoswaldsleeds.org
SUMMARY:Robinwood Meeting
DESCRIPTION:Meeting for parents of current Y5 children who will be attending the Robinwood residential visit in September this year.
URL:https://stoswaldsleeds.org/calendar/robinwood-meeting/
CATEGORIES:School Trip
ATTACH;FMTTYPE=image/jpeg:https://stoswaldsleeds.org/wp-content/uploads/2022/10/news-robinwood-3.jpg
END:VEVENT
BEGIN:VEVENT
DTSTART;TZID=Europe/London:20230124T090000
DTEND;TZID=Europe/London:20230124T120000
DTSTAMP:20260424T170906
CREATED:20230119T152907Z
LAST-MODIFIED:20230119T152907Z
UID:3218-1674550800-1674561600@stoswaldsleeds.org
SUMMARY:Y4 Trip to Esholt Woods
DESCRIPTION:Y4 will be going on a walking trip to Esholt Woods on Tuesday 24th January in the morning.
URL:https://stoswaldsleeds.org/calendar/y4-trip-to-esholt-woods/
CATEGORIES:School Trip
ATTACH;FMTTYPE=image/jpeg:https://stoswaldsleeds.org/wp-content/uploads/2022/06/forest-school-8.jpg
END:VEVENT
BEGIN:VEVENT
DTSTART;TZID=Europe/London:20230112T090000
DTEND;TZID=Europe/London:20230112T153000
DTSTAMP:20260424T170906
CREATED:20230105T150545Z
LAST-MODIFIED:20230105T150545Z
UID:3090-1673514000-1673537400@stoswaldsleeds.org
SUMMARY:Y5 Trip to Jorvik Viking Museum
DESCRIPTION:
URL:https://stoswaldsleeds.org/calendar/y5-trip-to-jorvik-viking-museum/
CATEGORIES:School Trip
ATTACH;FMTTYPE=image/jpeg:https://stoswaldsleeds.org/wp-content/uploads/2022/11/st-oswalds-event.jpg
END:VEVENT
END:VCALENDAR