BEGIN:VCALENDAR
VERSION:2.0
PRODID:-//St Oswald&#039;s C of E Primary School Guiseley - ECPv6.15.20//NONSGML v1.0//EN
CALSCALE:GREGORIAN
METHOD:PUBLISH
X-WR-CALNAME:St Oswald&#039;s C of E Primary School Guiseley
X-ORIGINAL-URL:https://stoswaldsleeds.org
X-WR-CALDESC:Events for St Oswald&#039;s C of E Primary School Guiseley
REFRESH-INTERVAL;VALUE=DURATION:PT1H
X-Robots-Tag:noindex
X-PUBLISHED-TTL:PT1H
BEGIN:VTIMEZONE
TZID:Europe/London
BEGIN:DAYLIGHT
TZOFFSETFROM:+0000
TZOFFSETTO:+0100
TZNAME:BST
DTSTART:20210328T010000
END:DAYLIGHT
BEGIN:STANDARD
TZOFFSETFROM:+0100
TZOFFSETTO:+0000
TZNAME:GMT
DTSTART:20211031T010000
END:STANDARD
BEGIN:DAYLIGHT
TZOFFSETFROM:+0000
TZOFFSETTO:+0100
TZNAME:BST
DTSTART:20220327T010000
END:DAYLIGHT
BEGIN:STANDARD
TZOFFSETFROM:+0100
TZOFFSETTO:+0000
TZNAME:GMT
DTSTART:20221030T010000
END:STANDARD
BEGIN:DAYLIGHT
TZOFFSETFROM:+0000
TZOFFSETTO:+0100
TZNAME:BST
DTSTART:20230326T010000
END:DAYLIGHT
BEGIN:STANDARD
TZOFFSETFROM:+0100
TZOFFSETTO:+0000
TZNAME:GMT
DTSTART:20231029T010000
END:STANDARD
END:VTIMEZONE
BEGIN:VEVENT
DTSTART;TZID=Europe/London:20221208T092000
DTEND;TZID=Europe/London:20221208T104000
DTSTAMP:20260421T105151
CREATED:20221130T122747Z
LAST-MODIFIED:20221201T155735Z
UID:3049-1670491200-1670496000@stoswaldsleeds.org
SUMMARY:Walking Nativity
DESCRIPTION:This year we are planning a slightly different Nativity experience for parents and carers to enjoy. We are going to\nhold a walking nativity\, for children from year 1-6\, on Thursday 8″ December. A walking Nativity involves\nvisitors taking a route around the school grounds\, seeing different scenes from the Christmas Story and listening to\nsongs as they pass. It allows us to involve every class in our performance. Reception have their own Nativity\nhappening on a different date but will have the opportunity to share in the walking nativity also. \nPerformances will alternate between the classes so please check when your child is scheduled to perform.\nThe route and timings will be as follows: \nYear 3 will kick start the nativity and will be positioned on the KS1 playground as you enter the gates and walk toward the main hall. \nYear 2 will be positioned around the back of school\, next to the reception playground. \nYear 1 will be a little further along\, on the KS2 playground\, where the year 4 children leave school. \nYear 5 will be positioned outside the school grounds on the way up to St Oswald’s church. \nYear 4 will be positioned on the church grounds \nYear 6 will be the final part of our walking nativity and based inside the church. \n9.20-10.00am\nElm\, Holly\, Aspen\, Lime\, Beech\, Oak \n10.00-10.40am\nAsh\, Rowan\, Hawthorn\, Cedar\, Willow\, Sycamore \nRefreshments will be available in church throughout the performance\, for you to enjoy once you have visited the final scene. \nThank you for your support and we hope you enjoy the event. \nJill Broadwell\nRE and Collective Worship Lead
URL:https://stoswaldsleeds.org/calendar/walking-nativity/
LOCATION:West Yorkshire
CATEGORIES:Church
END:VEVENT
END:VCALENDAR