BEGIN:VCALENDAR
VERSION:2.0
PRODID:-//St Oswald&#039;s C of E Primary School Guiseley - ECPv6.15.20//NONSGML v1.0//EN
CALSCALE:GREGORIAN
METHOD:PUBLISH
X-ORIGINAL-URL:https://stoswaldsleeds.org
X-WR-CALDESC:Events for St Oswald&#039;s C of E Primary School Guiseley
REFRESH-INTERVAL;VALUE=DURATION:PT1H
X-Robots-Tag:noindex
X-PUBLISHED-TTL:PT1H
BEGIN:VTIMEZONE
TZID:Europe/London
BEGIN:DAYLIGHT
TZOFFSETFROM:+0000
TZOFFSETTO:+0100
TZNAME:BST
DTSTART:20250330T010000
END:DAYLIGHT
BEGIN:STANDARD
TZOFFSETFROM:+0100
TZOFFSETTO:+0000
TZNAME:GMT
DTSTART:20251026T010000
END:STANDARD
BEGIN:DAYLIGHT
TZOFFSETFROM:+0000
TZOFFSETTO:+0100
TZNAME:BST
DTSTART:20260329T010000
END:DAYLIGHT
BEGIN:STANDARD
TZOFFSETFROM:+0100
TZOFFSETTO:+0000
TZNAME:GMT
DTSTART:20261025T010000
END:STANDARD
BEGIN:DAYLIGHT
TZOFFSETFROM:+0000
TZOFFSETTO:+0100
TZNAME:BST
DTSTART:20270328T010000
END:DAYLIGHT
BEGIN:STANDARD
TZOFFSETFROM:+0100
TZOFFSETTO:+0000
TZNAME:GMT
DTSTART:20271031T010000
END:STANDARD
END:VTIMEZONE
BEGIN:VEVENT
DTSTART;VALUE=DATE:20260324
DTEND;VALUE=DATE:20260401
DTSTAMP:20260423T111817
CREATED:20260210T160119Z
LAST-MODIFIED:20260210T160119Z
UID:5710-1774310400-1775001599@stoswaldsleeds.org
SUMMARY:Scholastic Book Fair
DESCRIPTION:
URL:https://stoswaldsleeds.org/calendar/scholastic-book-fair-2/
END:VEVENT
BEGIN:VEVENT
DTSTART;TZID=Europe/London:20260326T080000
DTEND;TZID=Europe/London:20260326T170000
DTSTAMP:20260423T111817
CREATED:20260210T160037Z
LAST-MODIFIED:20260210T160037Z
UID:5708-1774512000-1774544400@stoswaldsleeds.org
SUMMARY:School Quiz Night
DESCRIPTION:
URL:https://stoswaldsleeds.org/calendar/school-quiz-night/
END:VEVENT
END:VCALENDAR