BEGIN:VCALENDAR
VERSION:2.0
PRODID:-//St Oswald&#039;s C of E Primary School Guiseley - ECPv6.15.20//NONSGML v1.0//EN
CALSCALE:GREGORIAN
METHOD:PUBLISH
X-WR-CALNAME:St Oswald&#039;s C of E Primary School Guiseley
X-ORIGINAL-URL:https://stoswaldsleeds.org
X-WR-CALDESC:Events for St Oswald&#039;s C of E Primary School Guiseley
REFRESH-INTERVAL;VALUE=DURATION:PT1H
X-Robots-Tag:noindex
X-PUBLISHED-TTL:PT1H
BEGIN:VTIMEZONE
TZID:Europe/London
BEGIN:DAYLIGHT
TZOFFSETFROM:+0000
TZOFFSETTO:+0100
TZNAME:BST
DTSTART:20240331T010000
END:DAYLIGHT
BEGIN:STANDARD
TZOFFSETFROM:+0100
TZOFFSETTO:+0000
TZNAME:GMT
DTSTART:20241027T010000
END:STANDARD
BEGIN:DAYLIGHT
TZOFFSETFROM:+0000
TZOFFSETTO:+0100
TZNAME:BST
DTSTART:20250330T010000
END:DAYLIGHT
BEGIN:STANDARD
TZOFFSETFROM:+0100
TZOFFSETTO:+0000
TZNAME:GMT
DTSTART:20251026T010000
END:STANDARD
BEGIN:DAYLIGHT
TZOFFSETFROM:+0000
TZOFFSETTO:+0100
TZNAME:BST
DTSTART:20260329T010000
END:DAYLIGHT
BEGIN:STANDARD
TZOFFSETFROM:+0100
TZOFFSETTO:+0000
TZNAME:GMT
DTSTART:20261025T010000
END:STANDARD
END:VTIMEZONE
BEGIN:VEVENT
DTSTART;VALUE=DATE:20251204
DTEND;VALUE=DATE:20251205
DTSTAMP:20260421T104956
CREATED:20251113T134825Z
LAST-MODIFIED:20251113T134825Z
UID:5496-1764806400-1764892799@stoswaldsleeds.org
SUMMARY:Year 4 Trip to Leeds Grand Theatre
DESCRIPTION:
URL:https://stoswaldsleeds.org/calendar/year-4-trip-to-leeds-grand-theatre/
END:VEVENT
BEGIN:VEVENT
DTSTART;TZID=Europe/London:20251204T090000
DTEND;TZID=Europe/London:20251204T120000
DTSTAMP:20260421T104956
CREATED:20251113T134503Z
LAST-MODIFIED:20251113T134519Z
UID:5493-1764838800-1764849600@stoswaldsleeds.org
SUMMARY:Reception and Preschool Nativity (Details to follow)
DESCRIPTION:
URL:https://stoswaldsleeds.org/calendar/reception-and-preschool-nativity-details-to-follow12/
END:VEVENT
END:VCALENDAR