BEGIN:VCALENDAR
VERSION:2.0
PRODID:-//St Oswald&#039;s C of E Primary School Guiseley - ECPv6.15.20//NONSGML v1.0//EN
CALSCALE:GREGORIAN
METHOD:PUBLISH
X-WR-CALNAME:St Oswald&#039;s C of E Primary School Guiseley
X-ORIGINAL-URL:https://stoswaldsleeds.org
X-WR-CALDESC:Events for St Oswald&#039;s C of E Primary School Guiseley
REFRESH-INTERVAL;VALUE=DURATION:PT1H
X-Robots-Tag:noindex
X-PUBLISHED-TTL:PT1H
BEGIN:VTIMEZONE
TZID:Europe/London
BEGIN:DAYLIGHT
TZOFFSETFROM:+0000
TZOFFSETTO:+0100
TZNAME:BST
DTSTART:20230326T010000
END:DAYLIGHT
BEGIN:STANDARD
TZOFFSETFROM:+0100
TZOFFSETTO:+0000
TZNAME:GMT
DTSTART:20231029T010000
END:STANDARD
BEGIN:DAYLIGHT
TZOFFSETFROM:+0000
TZOFFSETTO:+0100
TZNAME:BST
DTSTART:20240331T010000
END:DAYLIGHT
BEGIN:STANDARD
TZOFFSETFROM:+0100
TZOFFSETTO:+0000
TZNAME:GMT
DTSTART:20241027T010000
END:STANDARD
BEGIN:DAYLIGHT
TZOFFSETFROM:+0000
TZOFFSETTO:+0100
TZNAME:BST
DTSTART:20250330T010000
END:DAYLIGHT
BEGIN:STANDARD
TZOFFSETFROM:+0100
TZOFFSETTO:+0000
TZNAME:GMT
DTSTART:20251026T010000
END:STANDARD
END:VTIMEZONE
BEGIN:VEVENT
DTSTART;TZID=Europe/London:20240312T173000
DTEND;TZID=Europe/London:20240312T180000
DTSTAMP:20260422T023337
CREATED:20240307T105601Z
LAST-MODIFIED:20240307T105601Z
UID:4316-1710264600-1710266400@stoswaldsleeds.org
SUMMARY:Yr6 SATs Meeting
DESCRIPTION:SAYs information session for Year 6 parents taking place in the school hall\, 5.30-6pm.
URL:https://stoswaldsleeds.org/calendar/yr6-sats-meeting/
END:VEVENT
END:VCALENDAR