BEGIN:VCALENDAR
VERSION:2.0
PRODID:-//St Oswald&#039;s C of E Primary School Guiseley - ECPv6.15.20//NONSGML v1.0//EN
CALSCALE:GREGORIAN
METHOD:PUBLISH
X-WR-CALNAME:St Oswald&#039;s C of E Primary School Guiseley
X-ORIGINAL-URL:https://stoswaldsleeds.org
X-WR-CALDESC:Events for St Oswald&#039;s C of E Primary School Guiseley
REFRESH-INTERVAL;VALUE=DURATION:PT1H
X-Robots-Tag:noindex
X-PUBLISHED-TTL:PT1H
BEGIN:VTIMEZONE
TZID:Europe/London
BEGIN:DAYLIGHT
TZOFFSETFROM:+0000
TZOFFSETTO:+0100
TZNAME:BST
DTSTART:20220327T010000
END:DAYLIGHT
BEGIN:STANDARD
TZOFFSETFROM:+0100
TZOFFSETTO:+0000
TZNAME:GMT
DTSTART:20221030T010000
END:STANDARD
BEGIN:DAYLIGHT
TZOFFSETFROM:+0000
TZOFFSETTO:+0100
TZNAME:BST
DTSTART:20230326T010000
END:DAYLIGHT
BEGIN:STANDARD
TZOFFSETFROM:+0100
TZOFFSETTO:+0000
TZNAME:GMT
DTSTART:20231029T010000
END:STANDARD
BEGIN:DAYLIGHT
TZOFFSETFROM:+0000
TZOFFSETTO:+0100
TZNAME:BST
DTSTART:20240331T010000
END:DAYLIGHT
BEGIN:STANDARD
TZOFFSETFROM:+0100
TZOFFSETTO:+0000
TZNAME:GMT
DTSTART:20241027T010000
END:STANDARD
END:VTIMEZONE
BEGIN:VEVENT
DTSTART;VALUE=DATE:20230904
DTEND;VALUE=DATE:20230905
DTSTAMP:20260424T153937
CREATED:20230627T101426Z
LAST-MODIFIED:20230627T103631Z
UID:3719-1693785600-1693871999@stoswaldsleeds.org
SUMMARY:Training Day – School Closed
DESCRIPTION:
URL:https://stoswaldsleeds.org/calendar/staff-training-day-2/
CATEGORIES:Staff Training Days
ATTACH;FMTTYPE=image/jpeg:https://stoswaldsleeds.org/wp-content/uploads/2023/06/event-training-day.jpg
END:VEVENT
BEGIN:VEVENT
DTSTART;VALUE=DATE:20230904
DTEND;VALUE=DATE:20230905
DTSTAMP:20260424T153937
CREATED:20240322T120717Z
LAST-MODIFIED:20240322T120717Z
UID:4341-1693785600-1693871999@stoswaldsleeds.org
SUMMARY:Training day - school closed to pupils
DESCRIPTION:
URL:https://stoswaldsleeds.org/calendar/training-day-school-closed-to-pupils/
END:VEVENT
END:VCALENDAR